BEGIN:VCALENDAR
VERSION:2.0
CALSCALE:GREGORIAN
PRODID:adamgibbons/ics
METHOD:PUBLISH
X-PUBLISHED-TTL:PT1H
BEGIN:VEVENT
UID:490@cal.gravitons.org
SUMMARY:EP Release Party: Comic Capers by inpc
DTSTAMP:20260425T141546Z
DTSTART:20260426T190000Z
DTEND:20260426T200000Z
URL:https://cal.gravitons.org/event/ep-release-party-comic-capers-by-inpc
LOCATION:online - https://stream.mxtthxw.art/
STATUS:CONFIRMED
CATEGORIES:fediwave,ListeningParty,ListenAlong,NHAM events,ReleaseParty,cha
	t
END:VEVENT
BEGIN:VEVENT
UID:511@cal.gravitons.org
SUMMARY:Fresh Friday on TIBtv
DTSTAMP:20260425T141546Z
DTSTART:20260501T180000Z
DTEND:20260501T190000Z
URL:https://cal.gravitons.org/event/fresh-friday-on-tibtv-16
LOCATION:online - https://tv.theindiebeat.fm/
STATUS:CONFIRMED
CATEGORIES:NHAM events,music,MusicVideos,TIBtv
END:VEVENT
BEGIN:VEVENT
UID:481@cal.gravitons.org
SUMMARY:NHAM Listening Party: Album TBA
DTSTAMP:20260425T141546Z
DTSTART:20260515T180000Z
DTEND:20260515T190000Z
URL:https://cal.gravitons.org/event/nham-listening-party-album-tba-2
LOCATION:online - https://tv.theindiebeat.fm/
STATUS:CONFIRMED
CATEGORIES:TIBtv,NHAM events,NHAM,ListeningParty,chat,fediwave,ListenAlong
END:VEVENT
BEGIN:VEVENT
UID:239@cal.gravitons.org
SUMMARY:Elif Yalvac - 3rd W3dn35day online gig
DTSTAMP:20260425T141546Z
DTSTART:20260520T190000Z
DTEND:20260520T200000Z
URL:https://cal.gravitons.org/event/elif-yalvac-3rd-w3dn35day-online-gig
LOCATION:online - https://stream.gravitons.org
STATUS:CONFIRMED
CATEGORIES:owncast,gravitons,NHAM events,fediwave,liveStreaming,music,elect
	ronic music
END:VEVENT
BEGIN:VEVENT
UID:473@cal.gravitons.org
SUMMARY:NHAM in Concert presents… gribbles
DTSTAMP:20260425T141546Z
DTSTART:20260521T190000Z
DTEND:20260521T200000Z
URL:https://cal.gravitons.org/event/nham-in-concert-presents-2
LOCATION:online - https://tv.theindiebeat.fm/
STATUS:CONFIRMED
CATEGORIES:fediwave,owncast,NHAM in Concert,NHAM events,NHAM,electronic mus
	ic,TIBtv,music,liveStreaming,livestream,live music,live
END:VEVENT
END:VCALENDAR
